BEGIN:VCALENDAR
VERSION:2.0
PRODID:-//ChamberMaster//Event Calendar 2.0//EN
METHOD:PUBLISH
X-PUBLISHED-TTL:P3D
REFRESH-INTERVAL:P3D
CALSCALE:GREGORIAN
BEGIN:VEVENT
DTSTART:20231014T140000Z
DTEND:20231014T193000Z
X-MICROSOFT-CDO-ALLDAYEVENT:FALSE
SUMMARY:Yard Sale
DESCRIPTION:Don't miss New Hope Midcoast's yard sale from 10:00 a.m. until 3:30 p.m. on Saturday\, October 14 (rain date is October 21) at 5 Beech Street\, Rockland. We'll have tables and racks of clothing and accessories! All items are by donation. Cash\, checks and credit cards will be accepted.
X-ALT-DESC;FMTTYPE=text/html:<div>\n<div>\n<div>\n<p>Don&rsquo\;t miss New&nbsp\;Hope Midcoast&#39\;s yard sale from 10:00 a.m. until 3:30 p.m. on Saturday\, October 14 (rain date is October 21) at 5 Beech Street\, Rockland. We&rsquo\;ll have tables and racks of clothing and accessories! All items are by donation. Cash\, checks and credit cards will be accepted.&nbsp\;</p>\n</div>\n</div>\n</div>\n\n<div>\n<p>&nbsp\;</p>\n</div>\n
LOCATION:New Hope Midcoast 5 Beech Street Rockland\, ME 04841
UID:e.2086.8441
SEQUENCE:3
DTSTAMP:20260421T131527Z
URL:https://business.damariscottaregion.com/events/details/yard-sale-8441
END:VEVENT

END:VCALENDAR
