BEGIN:VCALENDAR
VERSION:2.0
PRODID:-//ChamberMaster//Event Calendar 2.0//EN
METHOD:PUBLISH
X-PUBLISHED-TTL:P3D
REFRESH-INTERVAL:P3D
CALSCALE:GREGORIAN
BEGIN:VEVENT
DTSTART;VALUE=DATE:20240223
DTEND;VALUE=DATE:20240226
TRANSP:TRANSPARENT
X-MICROSOFT-CDO-ALLDAYEVENT:TRUE
SUMMARY:Winter Enchantment - A 2024 Feature Auction
DESCRIPTION:Thomaston Place Auction Galleries' first feature auction of the year\, "winter Enchantment\," will present an array of important art\, antiques\, and decorative rarities sourced primarily from local collections and estates.   \n\n\n\nHappening Friday\, February 23rd\, the sale will include selections of small boxes\, inkwells & desk collectibles\, baseball memorabilia\, fashion items\, jewelry & silver\, Carroll Thayer Berry prints\, barrister bookcases and accent furniture\, dolls\, porcelain dinnerware & art glass\, Japanese artifacts\, and firearms. \n\n\n\nThe on Saturday\, February 24th\, we will present artwork by Alfred Thompson Bricher\, David Teniers\, the Younger\, Thomas Birch\, Alexandre Calame\, Pierre Renoir\, James John Hill\, William Stubbs\, Stan Stokes\, Hiram Powers\, Georges Valentin Bareau\, George Loring Brown\, Wesley Webber\, Jean-Baptiste Greuze\, Jerome Howes\, Louis Moret\, and others on Day 2\, happening February 24th.\n\n\n\nAn excellent inventory of early maps will be presented\, led by 18th Century charts of Canada by Des Barres and Pierre Mortier. A Renaissance Period carved wooden plaque depicting the Black Madonna will be sold\, along with an important patriotic design ship's stern board by Rockland\, ME carver Lucien Green. Americana to be offered on this day will include marine items\, weathervanes\, decoys\, samplers\, and stoneware. Also including American and European antique furniture\, Chinese porcelain\, early lighting\, and an excellent group of tea caddies. Among our Asian antiques: a 17th-18th Century Thai bronze Buddha and a pair of French ormolu mounted Chinese flambe glazed bottle vases\, as well as a great selection of oriental carpets\, early silver\, and antiquities.\n\n\n\nFinally\, Sunday\, February 25th\, will feature artwork by Beauford Delaney\, Joan Miro\, Raoul Dufy\, Andrew George Winter\, Kathe Kollwitz\, Shoetsu Takahashi\, R. Emmett Owen\, Jean Claude Riopelle\, William Dethlef Koerner\, Aldro Hibbard\, and others. Also offering mportant works by Maine artists: William Manning\, Carroll Thayer Berry\, Grant Drumheller\, Eric Hopkins\, John Paul Caponigro\, William Thon\, Vernon Broe\, and Waldo Peirce.\n\n\n\nOn this day\, we will sell a large group of estate jewelry & watches\, including a circa 1920 18K gold ring set with a 6.54-carat diamond\, a Cartier of Paris woven 18K gold mesh purse\, and a 14K gold pocket watch by the Hampden Watch Co. with lighthouse and ship decorated case. On this day we will offer 2 German enameled singing bird boxes by Karl Griesbaum\, plus a nice selection of bronze animal sculptures and 3 Omersa leather animal footstools. The furniture category will include an Eames leather armchair with ottoman\, plus pieces by Eldred Wheeler and Thos. Moser. Additionally\, this day will offer a Dominick & Haff sterling coffee and tea service and a cased set of Kirk-Stieff "Repousse" pattern flatwareainted bamboo and lily designs. \n\n\n\nThe auction will begin at 11 a.m. each day. All lots can be viewed at Thomaston Place Auction Galleries' website\, www.live.thomastonauction.com. \n\n \n\nThe gallery will open for previews Saturday\, Feb. 17 (12 p.m. - 4 p.m.)\; and Monday   Thursday\, Feb. 19 - 22 (9 a.m.- 4 p.m.). Previewing will be available on auction days\, Friday\, Saturday and Sunday\, Feb. 23\, 24 & 25 from 9 -11 a.m.\n\n \n\nCall 207-354-8141 to reserve seats at the sale. Telephone\, absentee\, and live online bidding on three internet platforms will also be available. Visit our website or call 207-354-8141 for more info.
X-ALT-DESC;FMTTYPE=text/html:Thomaston Place Auction Galleries&rsquo\; first feature auction of the year\, &ldquo\;winter Enchantment\,&rdquo\; will present an array of important art\, antiques\, and decorative rarities sourced primarily from local collections and estates.&nbsp\; &nbsp\;<br />\n<br />\nHappening <strong>Friday\, February 23rd</strong>\, the sale will include selections of small boxes\, inkwells &amp\; desk collectibles\, baseball memorabilia\, fashion items\, jewelry &amp\; silver\, Carroll Thayer Berry prints\, barrister bookcases and accent furniture\, dolls\, porcelain dinnerware &amp\; art glass\, Japanese artifacts\, and firearms.&nbsp\;<br />\n<br />\nThe on <strong>Saturday\,&nbsp\;February 24th</strong>\, we will present artwork by Alfred Thompson Bricher\, David Teniers\, the Younger\, Thomas Birch\, Alexandre Calame\, Pierre Renoir\, James John Hill\, William Stubbs\, Stan Stokes\, Hiram Powers\, Georges Valentin Bareau\, George Loring Brown\, Wesley Webber\, Jean-Baptiste Greuze\, Jerome Howes\, Louis Moret\, and others on Day 2\, happening February 24th.<br />\n<br />\nAn excellent inventory of early maps will be presented\, led by 18th Century charts of Canada by Des Barres and Pierre Mortier. A Renaissance Period carved wooden plaque depicting the Black Madonna will be sold\, along with an important patriotic design ship&rsquo\;s stern board by Rockland\, ME carver Lucien Green. Americana to be offered on this day will include marine items\, weathervanes\, decoys\, samplers\, and stoneware. Also including American and European antique furniture\, Chinese porcelain\, early lighting\, and an excellent group of tea caddies. Among our Asian antiques: a 17th-18th Century Thai bronze Buddha and a pair of French ormolu mounted Chinese flambe glazed bottle vases\, as well as a great selection of oriental carpets\, early silver\, and antiquities.<br />\n<br />\nFinally\, <strong>Sunday\,&nbsp\;February 25th\,</strong>&nbsp\;will feature artwork by Beauford Delaney\, Joan Miro\, Raoul Dufy\, Andrew George Winter\, Kathe Kollwitz\, Shoetsu Takahashi\, R. Emmett Owen\, Jean Claude Riopelle\, William Dethlef Koerner\, Aldro Hibbard\, and others. Also offering mportant works by Maine artists: William Manning\, Carroll Thayer Berry\, Grant Drumheller\, Eric Hopkins\, John Paul Caponigro\, William Thon\, Vernon Broe\, and Waldo Peirce.<br />\n<br />\nOn this day\, we will sell a large group of estate jewelry &amp\; watches\, including a circa 1920 18K gold ring set with a 6.54-carat diamond\, a Cartier of Paris woven 18K gold mesh purse\, and a 14K gold pocket watch by the Hampden Watch Co. with lighthouse and ship decorated case. On this day we will offer 2 German enameled singing bird boxes by Karl Griesbaum\, plus a nice selection of bronze animal sculptures and 3 Omersa leather animal footstools. The furniture category will include an Eames leather armchair with ottoman\, plus pieces by Eldred Wheeler and Thos. Moser. Additionally\, this day will offer a Dominick &amp\; Haff sterling coffee and tea service and a cased set of Kirk-Stieff &ldquo\;Repousse&rdquo\; pattern flatwareainted bamboo and lily designs.&nbsp\;<br />\n<br />\nThe auction will begin at 11 a.m. each day. All lots can be viewed at Thomaston Place Auction Galleries&rsquo\; website\,&nbsp\;<a href="http://www.live.thomastonauction.com">www.live.thomastonauction.com</a>.&nbsp\;<br />\n&nbsp\;<br />\nThe gallery will open for previews Saturday\, Feb. 17 (12 p.m. - 4 p.m.)\; and Monday &ndash\; Thursday\, Feb. 19 - 22 (9 a.m.- 4 p.m.). Previewing will be available on auction days\, Friday\, Saturday and Sunday\, Feb. 23\, 24 &amp\; 25 from 9 -11 a.m.<br />\n&nbsp\;<br />\nCall 207-354-8141 to reserve seats at the sale. Telephone\, absentee\, and live online bidding on three internet platforms will also be available. Visit our website or call 207-354-8141 for more info.
LOCATION:51 Atlantic Highway\, Thomaston\, ME 04861
UID:e.2086.8468
SEQUENCE:3
DTSTAMP:20260421T043949Z
URL:https://business.damariscottaregion.com/events/details/winter-enchantment-a-2024-feature-auction-8468
END:VEVENT

END:VCALENDAR
