BEGIN:VCALENDAR
VERSION:2.0
PRODID:-//ChamberMaster//Event Calendar 2.0//EN
METHOD:PUBLISH
X-PUBLISHED-TTL:P3D
REFRESH-INTERVAL:P3D
CALSCALE:GREGORIAN
BEGIN:VEVENT
DTSTART;VALUE=DATE:20240309
DTEND;VALUE=DATE:20240310
TRANSP:TRANSPARENT
X-MICROSOFT-CDO-ALLDAYEVENT:TRUE
SUMMARY:What Drives Us Spring Education Series
DESCRIPTION:10am - 4pm: Open Hood Event\n\n1:00pm: Education Lecture: 1901 Hood Steam Electric Car\n\n10am - 4pm: STEM Activity\n\nOn March 9 the Owls Head Transportation Museum will hold its second event in their spring education series\, What Drives Us. This three-pronged event will include an "open hood" perspective of all the vehicles in the museum's collection as well as an all-day special STEM education activity. The highlight of the day will be a 1pm lecture focusing on a one-of-a-kind vehicle: the 1901 Hood Steamer.\n\nPLUS Don't miss the first screening of Alison Langley's film "Ralph Otho Hood\, Inside the Inventor's Mind!"\n\nWatch a trailer here:\n\nhttps://www.youtube.com/watch?v=QoVAoH7PdNM\n\nManufactured by Ralph Otho Hood and the Simplex Motor Vehicle Company\, the 1901 Steamer is one of only two prototypes built by Hood   his first steam-powered car was built in 1899. The 1901 Hood Steamer incorporated electrical innovation in the steam power age.\n\nFirefly Restoration's Andy Swift\, Dave Ramee and Svea Delevett will speak at the event\, along with Hood's great-grandson Chris Hood\, owner of CW Hood Yachts.\n\nWhat Drives Us isn't just for automobile enthusiasts! Not only will the hoods on all the vehicles in the collection be lifted for the March 9 event   the engines on the museum's historic aircraft will also be on display. Aircraft and Ground Vehicle conservators\, as well as museum volunteers and docents\, will be on hand to give guests unprecedented access to these rare vehicles throughout the day. The following automobiles and aircraft will be featured at the event:\n\nFeatured Ground Vehicles:\n\n1926 Model T Snowmobile\n\n1932 MG J2\n\n1912 Woods Electric\n\n1916 Scripps Booth\n\n1918 American Lafrance Model T Ford Fire Truck\n\n1932 Chevrolet Confederate Sedan & 1932 Chevrolet Confederate Roadster\n\n \n\nFeatured Aircraft:\n\n1930 Pircairn PA-7S Sport Mailwing w/ Curtiss Wright Whirwind R760 engine\n\n1950s Pietenpol w/ Model A engine\n\n1932 Fokker C.IVA\n\n1917 Curtiss JN-4D "Jenny"
X-ALT-DESC;FMTTYPE=text/html:<div>10am - 4pm: Open Hood Event</div>\n\n<div>1:00pm: Education Lecture: 1901 Hood Steam Electric Car</div>\n\n<div>10am - 4pm: STEM Activity</div>\n\n<div>On March 9 the Owls Head Transportation Museum will hold its second event in their spring education series\, What Drives Us. This three-pronged event will include an &ldquo\;open hood&rdquo\; perspective of all the vehicles in the museum&rsquo\;s collection as well as an all-day special STEM education activity. The highlight of the day will be a 1pm lecture focusing on a one-of-a-kind vehicle: the 1901 Hood Steamer.</div>\n\n<div>PLUS Don&#39\;t miss the first screening of Alison Langley&#39\;s film &quot\;Ralph Otho Hood\, Inside the Inventor&rsquo\;s Mind!&quot\;<br />\nWatch a trailer here:<br />\n<a class="x1i10hfl xjbqb8w x1ejq31n xd10rxx x1sy0etr x17r0tee x972fbf xcfux6l x1qhh985 xm0m39n x9f619 x1ypdohk xt0psk2 xe8uvvx xdj266r x11i5rnm xat24cr x1mh8g0r xexx8yu x4uap5 x18d9i69 xkhd6sd x16tdsg8 x1hl2dhg xggy1nq x1a2a7pz xt0b8zv x1fey0fg" href="https://www.youtube.com/watch?v=QoVAoH7PdNM&amp\;fbclid=IwAR1kxwbFRo0QUq7gxEqUVBjob3R60lSR-XSHsTKaoCgNNp8OVWZYl5k8gb0" rel="nofollow noreferrer" style="color: var(--blue-link)\; cursor: pointer\; text-decoration-line: none\; outline: none\; list-style: none\; margin: 0px\; text-align: inherit\; border-style: none\; padding: 0px\; border-width: 0px\; box-sizing: border-box\; background-color: transparent\; display: inline\; -webkit-tap-highlight-color: transparent\; touch-action: manipulation\; font-family: inherit\;" tabindex="0" target="_blank">https://www.youtube.com/watch?v=QoVAoH7PdNM</a></div>\n\n<div>Manufactured by Ralph Otho Hood and the Simplex Motor Vehicle Company\, the 1901 Steamer is one of only two prototypes built by Hood &ndash\; his first steam-powered car was built in 1899. The 1901 Hood Steamer incorporated electrical innovation in the steam power age.</div>\n\n<div>Firefly Restoration&rsquo\;s Andy Swift\, Dave Ramee and Svea Delevett will speak at the event\, along with Hood&rsquo\;s great-grandson Chris Hood\, owner of CW Hood Yachts.</div>\n\n<div>What Drives Us isn&rsquo\;t just for automobile enthusiasts! Not only will the hoods on all the vehicles in the collection be lifted for the March 9 event &ndash\; the engines on the museum&rsquo\;s historic aircraft will also be on display. Aircraft and Ground Vehicle conservators\, as well as museum volunteers and docents\, will be on hand to give guests unprecedented access to these rare vehicles throughout the day. The following automobiles and aircraft will be featured at the event:</div>\n\n<div>Featured Ground Vehicles:</div>\n\n<div>1926 Model T Snowmobile</div>\n\n<div>1932 MG J2</div>\n\n<div>1912 Woods Electric</div>\n\n<div>1916 Scripps Booth</div>\n\n<div>1918 American Lafrance Model T Ford Fire Truck</div>\n\n<div>1932 Chevrolet Confederate Sedan &amp\; 1932 Chevrolet Confederate Roadster</div>\n\n<div>&nbsp\;</div>\n\n<div>Featured Aircraft:</div>\n\n<div>1930 Pircairn PA-7S Sport Mailwing w/ Curtiss Wright Whirwind R760 engine</div>\n\n<div>1950s Pietenpol w/ Model A engine</div>\n\n<div>1932 Fokker C.IVA</div>\n\n<div>1917 Curtiss JN-4D &ldquo\;Jenny&rdquo\;</div>\n
LOCATION:Owls Head Transportation Museum
UID:e.2086.8469
SEQUENCE:3
DTSTAMP:20260421T025822Z
URL:https://business.damariscottaregion.com/events/details/what-drives-us-spring-education-series-8469
END:VEVENT

END:VCALENDAR
