BEGIN:VCALENDAR
VERSION:2.0
PRODID:-//ChamberMaster//Event Calendar 2.0//EN
METHOD:PUBLISH
X-PUBLISHED-TTL:P3D
REFRESH-INTERVAL:P3D
CALSCALE:GREGORIAN
BEGIN:VEVENT
DTSTART:20200214T223000Z
DTEND:20200215T013000Z
X-MICROSOFT-CDO-ALLDAYEVENT:FALSE
SUMMARY:Valentine's Day Dinner
DESCRIPTION:Enjoy a romantic dinner at The Bradley Inn\n\nFriday\, February 14\n\nTwo seatings 5:30 and 6:30\n\n\n\nPrefix Menu with entree options for $65/person\n\nMenu is posted at https://www.bradleyinn.com/dining.htm\n\n\n\nNon-refundable deposit of $25 and choice of entree at time of reservation\n\nCall for reservations 207-677-2105
X-ALT-DESC;FMTTYPE=text/html:Enjoy a romantic dinner at The Bradley Inn<br />\nFriday\, February 14<br />\nTwo seatings 5:30 and 6:30<br />\n<br />\nPrefix Menu with entree options for $65/person<br />\nMenu is posted at&nbsp\;<a href="https://www.bradleyinn.com/dining.htm">https://www.bradleyinn.com/dining.htm</a><br />\n<br />\nNon-refundable deposit of $25 and choice of entree at time of reservation<br />\nCall for reservations 207-677-2105<br />\n<br />\n&nbsp\;
LOCATION:3063 Bristol Road New Harbor\, ME 04554
UID:e.2086.6521
SEQUENCE:3
DTSTAMP:20260423T075807Z
URL:https://business.damariscottaregion.com/events/details/valentine-s-day-dinner-6521
END:VEVENT

END:VCALENDAR
