BEGIN:VCALENDAR
VERSION:2.0
PRODID:-//ChamberMaster//Event Calendar 2.0//EN
METHOD:PUBLISH
X-PUBLISHED-TTL:P3D
REFRESH-INTERVAL:P3D
CALSCALE:GREGORIAN
BEGIN:VEVENT
DTSTART:20240124T150000Z
DTEND:20240124T210000Z
X-MICROSOFT-CDO-ALLDAYEVENT:FALSE
SUMMARY:Thomaston Live 'Retro Chic' Online Auction
DESCRIPTION:Thomaston Place Auction Galleries presents "Retro Chic\," another eclectic Thomaston Light auction and the first one of 2024.\n\nThis discovery auction features unique objects to decorate your home or office. You will see recognizable names like Doel Reed\, Carolyn Whitaker\, Frank Finetti\, Herbert Lewis Fink\, and many other noteworthy artists. Not only that\, but there also will be an extensive selection of antique collectibles\, jewelry\, furniture\, fine art\, pottery\, Asian interior decor\, dinnerware\, cameras\, and more!\n\n \n\nThe auction will begin at 10 a.m. All lots can be viewed at Thomaston Place Auction Galleries' website\, www.thomastonauction.com. Previewing is available by appointment only.\n\n \n\nTelephone\, absentee\, & online bidding on Thomaston Live\, Invaluable and LiveAuctioneers will be available. Visit our website or call 354-8141 for more information.\n\n \n\nThomaston Light auctions are an easy\, affordable\, and sustainable way to add interest and individuality to your home! These one-day discovery auctions will offer a variety of distinctive and collectible objects\, presented with the service and expertise of Thomaston Place Auction Galleries.
X-ALT-DESC;FMTTYPE=text/html:Thomaston Place Auction Galleries presents &ldquo\;Retro Chic\,&rdquo\; another eclectic Thomaston Light auction and the first one of 2024.<br />\nThis discovery auction features unique objects to decorate your home or office. You will see recognizable names like Doel Reed\, Carolyn Whitaker\, Frank Finetti\, Herbert Lewis Fink\, and many other noteworthy artists. Not only that\, but there also will be an extensive selection of antique collectibles\, jewelry\, furniture\, fine art\, pottery\, Asian interior decor\, dinnerware\, cameras\, and more!<br />\n&nbsp\;<br />\nThe auction will begin at 10 a.m. All lots can be viewed at Thomaston Place Auction Galleries&rsquo\; website\, <a href="http://www.thomastonauction.com/">www.thomastonauction.com</a>. Previewing is available by appointment only.<br />\n&nbsp\;<br />\nTelephone\, absentee\, &amp\; online bidding on Thomaston Live\, Invaluable and LiveAuctioneers will be available. Visit our<span style="color:windowtext"> website</span> or call 354-8141 for more information.<br />\n&nbsp\;<br />\nThomaston Light auctions are an easy\, affordable\, and sustainable way to add interest and individuality to your home! These one-day discovery auctions will offer a variety of distinctive and collectible objects\, presented with the service and expertise of Thomaston Place Auction Galleries.
LOCATION:Online
UID:e.2086.8464
SEQUENCE:3
DTSTAMP:20260421T062523Z
URL:https://business.damariscottaregion.com/events/details/thomaston-live-retro-chic-online-auction-8464
END:VEVENT

END:VCALENDAR
