BEGIN:VCALENDAR
VERSION:2.0
PRODID:-//ChamberMaster//Event Calendar 2.0//EN
METHOD:PUBLISH
X-PUBLISHED-TTL:P3D
REFRESH-INTERVAL:P3D
CALSCALE:GREGORIAN
BEGIN:VEVENT
DTSTART:20230913T203000Z
DTEND:20230913T230000Z
X-MICROSOFT-CDO-ALLDAYEVENT:FALSE
SUMMARY:The Chamber's Annual Meeting
DESCRIPTION:A time to gather and celebrate all that has happened in 2023.  A time to honor members / businesses in our community who have gone above and beyond to make a difference.
X-ALT-DESC;FMTTYPE=text/html:A time to gather and celebrate all that has happened in 2023.&nbsp\; A time to honor members / businesses in our community who have gone above and beyond to make a difference.&nbsp\;&nbsp\;
LOCATION:The Contented Sole Restaurant located at Colonial Pemaquid Road in New Harbor.
UID:e.2086.8394
SEQUENCE:3
DTSTAMP:20260421T151754Z
URL:https://business.damariscottaregion.com/events/details/the-chamber-s-annual-meeting-8394
END:VEVENT

END:VCALENDAR
