BEGIN:VCALENDAR
VERSION:2.0
PRODID:-//ChamberMaster//Event Calendar 2.0//EN
METHOD:PUBLISH
X-PUBLISHED-TTL:P3D
REFRESH-INTERVAL:P3D
CALSCALE:GREGORIAN
BEGIN:VEVENT
DTSTART;VALUE=DATE:20240326
DTEND;VALUE=DATE:20240501
TRANSP:TRANSPARENT
X-MICROSOFT-CDO-ALLDAYEVENT:TRUE
SUMMARY:Survivor Tribute Matching Challenge
DESCRIPTION:Honor Someone and Double Your Impact with Our April Matching Challenge! \n\n\n\nDomestic abuse touches everyone. When individuals and families are suffering\, the effects spill into our workplaces\, schools and communities. Through New Hope Midcoasts's Survivor Tribute Fund\, you can honor people who rise to the occasion during challenging times. Teachers\, healthcare providers\, employers\, law enforcement\, volunteers\, and so many others work daily to help build safe communities. Give today in honor of someone you know who has made a positive impact on the lives of others and double your impact while supporting our work with people impacted by domestic abuse. \n\n\n\nAll donations received from now through April 30th will be matched dollar for dollar up to $20\,000! \n\nClick here to make your donation online\, contact Joan at (207) 691.5969 or developmentdirector@newhopemidcoast.org\, or mail your donation today to New Hope Midcoast\, Attn: Development\, P.O. Box A\, Rockland\, ME 04841.\n\n\n\nThank you!
X-ALT-DESC;FMTTYPE=text/html:<p><span style="font-size:14px"><span style="font-family:arial\,helvetica\,sans-serif"><strong>Honor Someone and Double Your Impact with Our April&nbsp\;Matching Challenge!&nbsp\;</strong><br />\n<br />\nDomestic abuse touches everyone. When individuals and families are suffering\, the effects spill into our workplaces\, schools and communities. Through&nbsp\;<span style="color:rgb(75\, 0\, 130)"><strong>New Hope Midcoasts&#39\;s Survivor Tribute Fund</strong></span>\, you can honor people who rise to the occasion during challenging times. Teachers\, healthcare providers\, employers\, law enforcement\, volunteers\, and so many others work daily to help build safe communities. Give today in honor of someone you know who has made a positive impact on the lives of others&nbsp\;and&nbsp\;<strong>double your impact</strong>&nbsp\;while supporting our work with people impacted by domestic abuse.&nbsp\;<br />\n<br />\n<a href="https://newhopeforwomen.us20.list-manage.com/track/click?u=879fad185881a80723eec2a1b&amp\;id=01825fe55e&amp\;e=3998d86403" style="color: rgb(0\, 124\, 137)\; font-family: arial\, &quot\;helvetica neue&quot\;\, helvetica\, sans-serif\;" target="_blank"><span style="color:rgb(75\, 0\, 130)"><strong>All donations received from now through&nbsp\;April 30th will be matched dollar for dollar up to $20\,000</strong></span></a><strong>!</strong>&nbsp\;</span></span></p>\n\n<p><span style="font-size:14px"><span style="font-family:arial\,helvetica\,sans-serif"><strong><a href="https://nhm-survivor-tribute-matching-challenge.square.site/" rel="noopener" style="color: rgb(0\, 124\, 137)\; font-family: arial\, &quot\;helvetica neue&quot\;\, helvetica\, sans-serif\;" target="_blank">Click here</a></strong>&nbsp\;to make your donation online\, contact&nbsp\;Joan at (207) 691.5969 or&nbsp\;<a href="mailto:developmentdirector@newhopemidcoast.org" style="color: rgb(0\, 124\, 137)\; font-family: arial\, &quot\;helvetica neue&quot\;\, helvetica\, sans-serif\;" target="_blank">developmentdirector@newhopemidcoast.org</a>\, or mail&nbsp\;your donation today to New Hope Midcoast\, Attn:&nbsp\;Development\, P.O. Box A\, Rockland\, ME 04841.<br />\n<br />\nThank you!</span></span></p>\n
LOCATION:Online
UID:e.2086.8475
SEQUENCE:3
DTSTAMP:20260421T010326Z
URL:https://business.damariscottaregion.com/events/details/survivor-tribute-matching-challenge-03-26-2024-8475
END:VEVENT

END:VCALENDAR
