BEGIN:VCALENDAR
VERSION:2.0
PRODID:-//ChamberMaster//Event Calendar 2.0//EN
METHOD:PUBLISH
X-PUBLISHED-TTL:P3D
REFRESH-INTERVAL:P3D
CALSCALE:GREGORIAN
BEGIN:VEVENT
DTSTART:20260307T190000Z
DTEND:20260307T213000Z
X-MICROSOFT-CDO-ALLDAYEVENT:FALSE
SUMMARY:Stepping On The Path: Awaken Your Herbal Knowledge Workshop
DESCRIPTION:If you've always been curious about the plants growing around you & wanted to learn more\, but didn't know where to start or how to go about it  this workshop is for you! Join us in the Local Batch Kitchen Saturday March 7th at 2pm.\n\nWe are all born with plant knowledge\, but sadly\, in this modern\, tech-obsessed world\, many of us are not in touch with it. This workshop will focus on connecting to & awakening that innate knowledge\, showing you how to deepen that connection one plant at a time.
X-ALT-DESC;FMTTYPE=text/html:<p>If you&#39\;ve always been curious about the plants growing around you &amp\; wanted to learn more\, but didn&rsquo\;t know where to start or how to go about it&ndash\; this workshop is for you! Join us <u>i</u>n the <a href="https://www.google.com/maps/place/127+Elm+St\,+Damariscotta\,+ME+04543/@44.0328289\,-69.5294285\,1576m/data=!3m2!1e3!4b1!4m6!3m5!1s0x4cad94cc5398076b:0x952cbe2b467bdb2c!8m2!3d44.0328289!4d-69.5294285!16s%2Fg%2F11v09fr27x?entry=ttu&amp\;g_ep=EgoyMDI1MDUyOC4wIKXMDSoASAFQAw%3D%3D" rel="noopener noreferrer" style="color: rgba(0\, 0\, 0\, 0.9)\; transition: color 0.24s cubic-bezier(0.26\, 0.1\, 0.48\, 1)\; font-weight: 700\;" target="_blank">Local Batch Kitchen</a> <strong>Saturday March 7th at 2pm.</strong></p>\n\n<p>We are all born with plant knowledge\, but sadly\, in this modern\, tech-obsessed world\, many of us are not in touch with it. This workshop will focus on connecting to &amp\; <strong>awakening that innate knowledge</strong>\, showing you how to <strong>deepen that connection one plant at a time.</strong></p>\n
LOCATION:Local Batch Kitchen\, 127 Elm Street\, Damariscotta\, ME 04543
UID:e.2086.10267
SEQUENCE:3
DTSTAMP:20260424T065201Z
URL:https://business.damariscottaregion.com/events/details/stepping-on-the-path-awaken-your-herbal-knowledge-workshop-10267
END:VEVENT

END:VCALENDAR
