BEGIN:VCALENDAR
VERSION:2.0
PRODID:-//ChamberMaster//Event Calendar 2.0//EN
METHOD:PUBLISH
X-PUBLISHED-TTL:P3D
REFRESH-INTERVAL:P3D
CALSCALE:GREGORIAN
BEGIN:VEVENT
DTSTART;VALUE=DATE:20240427
DTEND;VALUE=DATE:20240428
TRANSP:TRANSPARENT
X-MICROSOFT-CDO-ALLDAYEVENT:TRUE
SUMMARY:STEM Fest
DESCRIPTION:Saturday\, April 27 \n\nSTEM FEST Day (FREE to the public)\n\nThe museum is open to the public and visitors can enjoy the festival free of cost. This is an opportunity for youth to try their hand at a variety of STEM-based programming\, find inspiration and speak with professionals from a variety of fields.\n\nThe event runs 10am - 2pm\, doors close at 4pm.\n \n\nParticipants include Maine Maritime Academy\, University of Maine\, Nomad Motors\, and the Maine Discovery Museum! Don't miss a Bath Iron Works virtual reality training trailer or build a stethoscope with the Girls Scout of Maine! \n\nThank you to our committed sponsors:\n\nFirst National Bank\, Central Maine Power\, Allen Insurance\, OpBox and Maine Technology Institute. \n \n\nParticipating STEM Professionals Include:\n \n\n Douglass Dynamics  Snowplow robotics interactive\n\n Lyman Morse fabrication demonstration\n\n Mechanical Arts auto mechanics demonstration\n\n Maine Health Institute for Research create a model of the heart\n\n University of Maine Orono Bridges\n\n Central Maine Power  "Safety City" interactive demonstration\n\n Bath Iron Works VR Training Trailer\n\n BRIO  Heat press logo bag activity\n\n Maine Discovery Museum  Viscosity experiment\n\n Op Box  Recycled building materials/ CLYNK deposit prototype  \n\n Girl Scouts of Maine  DIY Stethoscopes \n\n Dizzy Lizzy  Grab and go Sewing Monster\, leather tooling keychains\n\n Maine Maritime Academy  Boat design and testing\n\n University of Maine The Mainely Physics Road Show\n\n Experimental Aircraft Association Model airplanes\n\n Nomad Motors Classic car turned electric\n\n OHTM Demonstrations World War I Encampment\n\n \n\nWhere: Owls Head Transportation Museum\, 117 Museum St\, Owls Head\, ME 04854\n\nContact: Megan Galinsky mgalinsky@ohtm.org (207) 594-4418 x152
X-ALT-DESC;FMTTYPE=text/html:<p><strong>Saturday\, April 27</strong><span style="background-color:transparent\; color:rgb(0\, 0\, 0)\; font-family:arial\,sans-serif\; font-size:11pt">&nbsp\;</span></p>\n\n<p><strong>STEM FEST Day </strong><em>(FREE to the public)</em></p>\n\n<p><span style="background-color:transparent\; color:rgb(0\, 0\, 0)\; font-family:arial\,sans-serif\; font-size:11pt">The museum is open to the public and visitors can enjoy the festival free of cost. This is an opportunity for youth to try their hand at a variety of STEM-based programming\, find inspiration and speak with professionals from a variety of fields.</span></p>\n\n<p><span style="background-color:transparent\; color:rgb(0\, 0\, 0)\; font-family:arial\,sans-serif\; font-size:11pt">The event runs 10am - 2pm\, doors close at 4pm.</span></p>\n&nbsp\;\n\n<p><span style="background-color:transparent\; color:rgb(0\, 0\, 0)\; font-family:arial\,sans-serif\; font-size:11pt">Participants include Maine Maritime Academy\, University of Maine\, Nomad Motors\, and the Maine Discovery Museum! Don&rsquo\;t miss a Bath Iron Works virtual reality training trailer or build a stethoscope with the Girls Scout of Maine!&nbsp\;</span></p>\n\n<p><strong>Thank you to our committed sponsors:</strong></p>\n\n<p><span style="background-color:transparent\; color:rgb(0\, 0\, 0)\; font-family:arial\,sans-serif\; font-size:11pt">First National Bank\, Central Maine Power\, Allen Insurance\, OpBox and Maine Technology Institute.&nbsp\;</span></p>\n&nbsp\;\n\n<p><strong>Participating STEM Professionals Include:</strong></p>\n&nbsp\;\n\n<p><span style="background-color:transparent\; color:rgb(0\, 0\, 0)\; font-family:arial\,sans-serif\; font-size:11pt">&bull\;Douglass Dynamics &mdash\;Snowplow robotics interactive</span></p>\n\n<p><span style="background-color:transparent\; color:rgb(0\, 0\, 0)\; font-family:arial\,sans-serif\; font-size:11pt">&bull\;Lyman Morse&mdash\;fabrication demonstration</span></p>\n\n<p><span style="background-color:transparent\; color:rgb(0\, 0\, 0)\; font-family:arial\,sans-serif\; font-size:11pt">&bull\;Mechanical Arts&mdash\;auto mechanics demonstration</span></p>\n\n<p><span style="background-color:transparent\; color:rgb(0\, 0\, 0)\; font-family:arial\,sans-serif\; font-size:11pt">&bull\;Maine Health Institute for Research&mdash\;create a model of the heart</span></p>\n\n<p><span style="background-color:transparent\; color:rgb(0\, 0\, 0)\; font-family:arial\,sans-serif\; font-size:11pt">&bull\;University of Maine Orono&mdash\;Bridges</span></p>\n\n<p><span style="background-color:transparent\; color:rgb(0\, 0\, 0)\; font-family:arial\,sans-serif\; font-size:11pt">&bull\;Central Maine Power &mdash\;&quot\;Safety City&rdquo\; interactive demonstration</span></p>\n\n<p><span style="background-color:transparent\; color:rgb(0\, 0\, 0)\; font-family:arial\,sans-serif\; font-size:11pt">&bull\;Bath Iron Works&mdash\;VR Training Trailer</span></p>\n\n<p><span style="background-color:transparent\; color:rgb(0\, 0\, 0)\; font-family:arial\,sans-serif\; font-size:11pt">&bull\;BRIO &mdash\;Heat press logo bag activity</span></p>\n\n<p><span style="background-color:transparent\; color:rgb(0\, 0\, 0)\; font-family:arial\,sans-serif\; font-size:11pt">&bull\;Maine Discovery Museum &mdash\;Viscosity experiment</span></p>\n\n<p><span style="background-color:transparent\; color:rgb(0\, 0\, 0)\; font-family:arial\,sans-serif\; font-size:11pt">&bull\;Op Box &mdash\;Recycled building materials/ CLYNK deposit prototype&nbsp\;&nbsp\;</span></p>\n\n<p><span style="background-color:transparent\; color:rgb(0\, 0\, 0)\; font-family:arial\,sans-serif\; font-size:11pt">&bull\;Girl Scouts of Maine &mdash\;DIY Stethoscopes&nbsp\;</span></p>\n\n<p><span style="background-color:transparent\; color:rgb(0\, 0\, 0)\; font-family:arial\,sans-serif\; font-size:11pt">&bull\;Dizzy Lizzy &mdash\;Grab and go Sewing Monster\, leather tooling keychains</span></p>\n\n<p><span style="background-color:transparent\; color:rgb(0\, 0\, 0)\; font-family:arial\,sans-serif\; font-size:11pt">&bull\;Maine Maritime Academy &mdash\;Boat design and testing</span></p>\n\n<p><span style="background-color:transparent\; color:rgb(0\, 0\, 0)\; font-family:arial\,sans-serif\; font-size:11pt">&bull\;University of Maine&mdash\;The Mainely Physics Road Show</span></p>\n\n<p><span style="background-color:transparent\; color:rgb(0\, 0\, 0)\; font-family:arial\,sans-serif\; font-size:11pt">&bull\;Experimental Aircraft Association&mdash\;Model airplanes</span></p>\n\n<p><span style="background-color:transparent\; color:rgb(0\, 0\, 0)\; font-family:arial\,sans-serif\; font-size:11pt">&bull\;Nomad Motors&mdash\;Classic car turned electric</span></p>\n\n<p><span style="background-color:transparent\; color:rgb(0\, 0\, 0)\; font-family:arial\,sans-serif\; font-size:11pt">&bull\;OHTM Demonstrations&mdash\;World War I Encampment</span></p>\n\n<p>&nbsp\;</p>\n\n<p><strong>Where: Owls Head Transportation Museum\, 117 Museum St\, Owls Head\, ME 04854</strong></p>\n\n<p><strong>Contact: Megan Galinsky </strong><a href="mailto:mgalinsky@ohtm.org" style="text-decoration-line: none\;"><strong>mgalinsky@ohtm.org</strong></a><strong> </strong><strong>(207) 594-4418 x152</strong></p>\n\n<div>&nbsp\;</div>\n
LOCATION:Owls Head Transportation Museum 117 Museum St Owls Head\, ME 04854
UID:e.2086.8483
SEQUENCE:3
DTSTAMP:20260421T010131Z
URL:https://business.damariscottaregion.com/events/details/stem-fest-04-27-2024-8483
END:VEVENT

END:VCALENDAR
