BEGIN:VCALENDAR
VERSION:2.0
PRODID:-//ChamberMaster//Event Calendar 2.0//EN
METHOD:PUBLISH
X-PUBLISHED-TTL:P3D
REFRESH-INTERVAL:P3D
CALSCALE:GREGORIAN
BEGIN:VEVENT
DTSTART:20210730T210000Z
DTEND:20210730T230000Z
X-MICROSOFT-CDO-ALLDAYEVENT:FALSE
SUMMARY:Social Scramble at Wawenock Golf Club
DESCRIPTION:Come out and enjoy Wawenock Golf Course with some friends.  Closest to the pins and long drive included.
X-ALT-DESC;FMTTYPE=text/html:Come out and enjoy Wawenock Golf Course with some friends.&nbsp\; Closest to the pins and long drive included.&nbsp\;&nbsp\;
LOCATION:Wawenock Golf Club 685 State Route 129 Walpole. ME 04573 207-563-3938
UID:e.2086.7215
SEQUENCE:3
DTSTAMP:20260425T132944Z
URL:https://business.damariscottaregion.com/events/details/social-scramble-at-wawenock-golf-club-7215
END:VEVENT

END:VCALENDAR
