BEGIN:VCALENDAR
VERSION:2.0
PRODID:-//ChamberMaster//Event Calendar 2.0//EN
METHOD:PUBLISH
X-PUBLISHED-TTL:P3D
REFRESH-INTERVAL:P3D
CALSCALE:GREGORIAN
BEGIN:VEVENT
DTSTART:20210820T140000Z
DTEND:20210821T220000Z
X-MICROSOFT-CDO-ALLDAYEVENT:FALSE
SUMMARY:Sanford Open Tennis Tournament & Auction
DESCRIPTION:Join us for the 15th annual Sanford Open!\n\nStarting on August 20\, 2021\, Central Lincoln County YMCA will be hosting the Sanford Open Tennis Tournament and Auction. The Y will be auctioning off a number of fun and unique items to bid on to raise money for mission-based tennis programs at the Y both in an online silent auction and a live auction.\n\nCheck out the Silent Auction \n\n \n\nFri. Aug. 20\, 12-5pm\n\nat Lincoln Academy\n\n$75 Entry Fee\n\n(Includes Community Celebration\n\n& Auction)\n\nSat. Aug. 21\, 4-6pm\n\nat Lincoln Academy\n\n$75 Entry Fee\n\n(Includes Community Celebration\n\n& Auction)\n\nCommunity Celebration\, Live Auction & Fireworks\n\nat Sprague Point\n\nSat. Aug. 21\,\n\n6:30-8pm\n\n$75 Entry Fee\n\n(Entry fee is for non tournament participants)\n\nOnline Silent Auction\n\nAug. 8 - Aug. 21\n\n \n\nThe CLC YMCA offers free tennis to over 500 kids in the Lincoln County and Midcoast Maine area every year. These programs also include more than tennis\, they also help to support working families and address food insecurity throughout the region.\n\nShow your support by competing\, donating or bidding on an item.
X-ALT-DESC;FMTTYPE=text/html:<div>\n<div>Join us for the 15th annual Sanford Open!</div>\n\n<div>Starting on August 20\, 2021\, Central Lincoln County YMCA will be hosting the Sanford Open Tennis Tournament and Auction. The Y will be auctioning off a number of fun and unique items to bid on to raise money for mission-based tennis programs at the Y both in an online silent auction and a live auction.<br />\n<a href="https://www.biddingforgood.com/clcymca/sanfordopen">Check out the Silent Auction</a>&nbsp\;<br />\n&nbsp\;</div>\n\n<div>Fri. Aug. 20\, 12-5pm<br />\nat Lincoln Academy<br />\n$75 Entry Fee<br />\n(Includes Community Celebration<br />\n&amp\; Auction)</div>\n\n<div>Sat. Aug. 21\, 4-6pm<br />\nat Lincoln Academy<br />\n$75 Entry Fee<br />\n(Includes Community Celebration<br />\n&amp\; Auction)</div>\n\n<div>Community Celebration\, Live Auction &amp\; Fireworks<br />\nat Sprague Point<br />\nSat. Aug. 21\,<br />\n6:30-8pm<br />\n$75 Entry Fee<br />\n(Entry fee is for non tournament participants)</div>\n\n<div>Online Silent Auction<br />\nAug. 8 - Aug. 21<br />\n&nbsp\;</div>\n\n<div>The CLC YMCA offers free tennis to over 500 kids in the Lincoln County and Midcoast Maine area every year. These programs also include more than tennis\, they also help to support working families and address food insecurity throughout the region.</div>\n\n<div>Show your support by competing\, donating or bidding on an item.</div>\n</div>\n
LOCATION:Lincoln Academy Tennis Courts & Central Lincoln County YMCA
UID:e.2086.7149
SEQUENCE:3
DTSTAMP:20260425T121211Z
URL:https://business.damariscottaregion.com/events/details/sanford-open-tennis-tournament-auction-7149
END:VEVENT

END:VCALENDAR
