BEGIN:VCALENDAR
VERSION:2.0
PRODID:-//ChamberMaster//Event Calendar 2.0//EN
METHOD:PUBLISH
X-PUBLISHED-TTL:P3D
REFRESH-INTERVAL:P3D
CALSCALE:GREGORIAN
BEGIN:VEVENT
DTSTART:20200216T190000Z
DTEND:20200216T210000Z
X-MICROSOFT-CDO-ALLDAYEVENT:FALSE
SUMMARY:Rolling Stone Tribute Performed by Maine Musicians
DESCRIPTION:Save-the-Date for a Rolling Stone Tribute Performed by Maine Musicians
X-ALT-DESC;FMTTYPE=text/html:Save-the-Date for a Rolling Stone Tribute Performed by Maine Musicians
LOCATION:Lincoln Theater\, Damariscotta
UID:e.2086.6515
SEQUENCE:3
DTSTAMP:20260421T112356Z
URL:https://business.damariscottaregion.com/events/details/rolling-stone-tribute-performed-by-maine-musicians-6515
END:VEVENT

END:VCALENDAR
