BEGIN:VCALENDAR
VERSION:2.0
PRODID:-//ChamberMaster//Event Calendar 2.0//EN
METHOD:PUBLISH
X-PUBLISHED-TTL:P3D
REFRESH-INTERVAL:P3D
CALSCALE:GREGORIAN
BEGIN:VEVENT
DTSTART:20221126T154000Z
DTEND:20221126T154500Z
X-MICROSOFT-CDO-ALLDAYEVENT:FALSE
SUMMARY:Raffle Ticket Drawing to Benefit Chamber's Capital Campaign
DESCRIPTION:The chamber is selling raffle tickets at $100 a pop to benefit its capital campaign to restore and expand the old Information Bureau in Damariscotta.  No more than 300 tickets will be sold.  First place winner will receive $5000 and second place winner will receive $2000.  \n\n\n\nSanta will pull the winning tickets.
X-ALT-DESC;FMTTYPE=text/html:The chamber is selling raffle tickets at $100 a pop to benefit its capital campaign to restore and expand the old Information Bureau in Damariscotta.&nbsp\; No more than 300 tickets will be sold.&nbsp\; First place winner will receive $5000 and second place winner will receive $2000.&nbsp\;&nbsp\;<br />\n<br />\nSanta will pull the winning tickets.&nbsp\;
LOCATION:Chamber's Facebook Page LIVE
UID:e.2086.7980
SEQUENCE:3
DTSTAMP:20260422T073018Z
URL:https://business.damariscottaregion.com/events/details/raffle-ticket-drawing-to-benefit-chamber-s-capital-campaign-7980
END:VEVENT

END:VCALENDAR
