BEGIN:VCALENDAR
VERSION:2.0
PRODID:-//ChamberMaster//Event Calendar 2.0//EN
METHOD:PUBLISH
X-PUBLISHED-TTL:P3D
REFRESH-INTERVAL:P3D
CALSCALE:GREGORIAN
BEGIN:VEVENT
DTSTART:20240416T130000Z
DTEND:20240416T200000Z
X-MICROSOFT-CDO-ALLDAYEVENT:FALSE
SUMMARY:Preview Home Decor & More
DESCRIPTION:We invite you to join us for an in-person preview at our mid-coast gallery in Thomaston\, ME conveniently located off Route 1. See one-of-a-kind furniture\, fine art\, decor\, lighting\, and so much more while you browse though our carefully curated gallery. This sale is all about timeless designs that fit any budget. Our friendly staff is here to help you discover your next great find!\n\n \nAll lots are available for viewing at https://bit.ly/4cFZtwH. This sale will have in-person bidding\, as well as telephone\, absentee\, and online bidding on three internet platforms for your convenience.
X-ALT-DESC;FMTTYPE=text/html:<div><span style="font-size:14px">We invite you to join us for an in-person preview at our mid-coast gallery in Thomaston\, ME conveniently located off Route 1. See one-of-a-kind furniture\, fine art\, decor\, lighting\, and so much more while you browse though our carefully curated gallery. This sale is all about timeless designs that fit any budget. Our friendly staff is here to help you discover your next great find!</span><br />\n&nbsp\;</div>\n<span style="font-size:14px">All lots are available for viewing at&nbsp\;</span><span style="color:rgba(0\, 0\, 0\, 0.87)\; font-family:roboto\,sans-serif"><span style="font-size:14px">https://bit.ly/4cFZtwH</span>.</span><span style="font-family:segoe ui historic\,segoe ui\,helvetica\,arial\,sans-serif\; font-size:15px">&nbsp\;This sale will have in-person bidding\, as well as telephone\, absentee\, and online bidding on three internet platforms for your convenience.</span>
LOCATION:51 Atlantic Hwy\, Thomaston\, ME 04861
UID:e.2086.8479
SEQUENCE:3
DTSTAMP:20260421T010217Z
URL:https://business.damariscottaregion.com/events/details/preview-home-decor-more-04-16-2024-8479
END:VEVENT

END:VCALENDAR
