BEGIN:VCALENDAR
VERSION:2.0
PRODID:-//ChamberMaster//Event Calendar 2.0//EN
METHOD:PUBLISH
X-PUBLISHED-TTL:P3D
REFRESH-INTERVAL:P3D
CALSCALE:GREGORIAN
BEGIN:VEVENT
DTSTART;VALUE=DATE:20240126
DTEND;VALUE=DATE:20240704
TRANSP:TRANSPARENT
X-MICROSOFT-CDO-ALLDAYEVENT:TRUE
SUMMARY:New Hope Midcoast Collecting Donations for 12th Annual Shop for Hope
DESCRIPTION:New Hope Midcoast\, the Regional Domestic Violence Resource Center serving Midcoast Maine\, is seeking donations of new and used high-quality clothing and accessories from now through July 3rd. Items will be resold at the annual summer Shop for Hope event to be held in Rockland. Exact dates and times of the event are forthcoming.\n\n\n\nHigh quality clothing donations may be new or used\, for all seasons and genders\, and of all sizes. Infant and children's clothing must be new. Accessories include jewelry\, (hand)bags\, shoes (near new if used)\, scarves\, hats\, mittens/gloves\, and belts. For FAQs regarding donations visit https://newhopemidcoast.org/shop-for-hope/. Please contact Joan at (207) 691.5969 or developmentdirector@newhopemidcoast.org to arrange for drop off.
X-ALT-DESC;FMTTYPE=text/html:<p><span style="font-family:calibri\,sans-serif">New Hope Midcoast\, the Regional Domestic Violence Resource Center serving Midcoast Maine\, is seeking&nbsp\;donations of new and used high-quality clothing and accessories from now through July 3<sup>rd</sup>. Items will be resold at the annual summer Shop for Hope event to be held in Rockland. Exact dates and times of the event are forthcoming.</span><br />\n<br />\n<span style="font-family:calibri\,sans-serif">High quality clothing donations may be new or used\, for all seasons and genders\, and of all sizes. Infant and children&rsquo\;s clothing must be new. Accessories include jewelry\, (hand)bags\, shoes (near new if used)\, scarves\, hats\, mittens/gloves\, and belts. For FAQs regarding donations visit&nbsp\;</span><a href="https://newhopemidcoast.org/shop-for-hope/" style="color: blue\;" target="_blank"><span style="color:rgb(17\, 85\, 204)"><span style="font-family:calibri\,sans-serif">https://newhopemidcoast.org/shop-for-hope/</span></span></a><span style="font-family:calibri\,sans-serif">. Please contact Joan at (207) 691.5969 or&nbsp\;</span><a href="mailto:developmentdirector@newhopemidcoast.org" style="color: blue\;" target="_blank"><span style="color:rgb(0\, 63\, 135)"><span style="font-family:calibri\,sans-serif">developmentdirector@newhopemidcoast.org</span></span></a><span style="font-family:calibri\,sans-serif">&nbsp\;to arrange for drop off.&nbsp\;</span></p>\n
LOCATION:
UID:e.2086.8467
SEQUENCE:3
DTSTAMP:20260420T230659Z
URL:https://business.damariscottaregion.com/events/details/new-hope-midcoast-collecting-donations-for-12th-annual-shop-for-hope-8467
END:VEVENT

END:VCALENDAR
