BEGIN:VCALENDAR
VERSION:2.0
PRODID:-//ChamberMaster//Event Calendar 2.0//EN
METHOD:PUBLISH
X-PUBLISHED-TTL:P3D
REFRESH-INTERVAL:P3D
CALSCALE:GREGORIAN
BEGIN:VEVENT
DTSTART:20240522T140000Z
DTEND:20240522T190000Z
X-MICROSOFT-CDO-ALLDAYEVENT:FALSE
SUMMARY:Memories on Paper - A Thomaston Light Auction
DESCRIPTION:Discover Unique Finds: From rare postcards to historic letters\, our curated collection of vintage paper collectibles has something for everyone.\n\n \n\nBid with Ease: Whether you're a seasoned collector or a curious newcomer\, participating in our online auction is a breeze. Simply bid online or place a phone/absentee bid with our front desk by calling us at 207-354-8141.\n\n \n\nJoin Us from Anywhere: No need to travel. From your living room to your favorite caf \, you can immerse yourself in the excitement of our live online auction anywhere.\n\nView the full catalog: https://bit.ly/4abF1S7
X-ALT-DESC;FMTTYPE=text/html:<div><strong>Discover Unique Finds: </strong>From rare postcards to historic letters\, our curated collection of vintage paper collectibles has something for everyone.<br />\n&nbsp\;</div>\n\n<div><strong>Bid with Ease: </strong>Whether you&#39\;re a seasoned collector or a curious newcomer\, participating in our online auction is a breeze. Simply bid online or place a phone/absentee bid with our front desk by calling us at 207-354-8141.<br />\n&nbsp\;</div>\n\n<div><strong>Join Us from Anywhere: </strong>No need to travel. From your living room to your favorite caf&eacute\;\, you can immerse yourself in the excitement of our live online auction anywhere.</div>\n\n<div>View the full catalog:&nbsp\;<a class="x1i10hfl xjbqb8w x1ejq31n xd10rxx x1sy0etr x17r0tee x972fbf xcfux6l x1qhh985 xm0m39n x9f619 x1ypdohk xt0psk2 xe8uvvx xdj266r x11i5rnm xat24cr x1mh8g0r xexx8yu x4uap5 x18d9i69 xkhd6sd x16tdsg8 xggy1nq x1a2a7pz xt0b8zv x1hl2dhg x1fey0fg" href="https://bit.ly/4abF1S7?fbclid=IwZXh0bgNhZW0CMTAAAR13muQrUdUXJdtNJ6f5i_xIjXwhi7uUWVtSBRC3hvwgiGh81d2Be3YWcq4_aem_ATE3jnhY2wBBlP7Azxvj0xaWReMjSomydgMMl8EUspZya-0An9ndu5ImZvh4EDiU9rjyudqmjPFL17dhSHlwOjT0" rel="nofollow noreferrer" style="color: var(--blue-link)\; cursor: pointer\; text-decoration-line: none\; outline: none\; list-style: none\; margin: 0px\; text-align: inherit\; border-style: none\; padding: 0px\; border-width: 0px\; box-sizing: border-box\; background-color: transparent\; display: inline\; -webkit-tap-highlight-color: transparent\; touch-action: manipulation\; font-family: inherit\;" tabindex="0" target="_blank">https://bit.ly/4abF1S7</a></div>\n
LOCATION:Online at https://bit.ly/4abF1S7
UID:e.2086.8490
SEQUENCE:3
DTSTAMP:20260420T230343Z
URL:https://business.damariscottaregion.com/events/details/memories-on-paper-a-thomaston-light-auction-8490
END:VEVENT

END:VCALENDAR
