BEGIN:VCALENDAR
VERSION:2.0
PRODID:-//ChamberMaster//Event Calendar 2.0//EN
METHOD:PUBLISH
X-PUBLISHED-TTL:P3D
REFRESH-INTERVAL:P3D
CALSCALE:GREGORIAN
BEGIN:VEVENT
DTSTART:20240419T140000Z
DTEND:20240419T210000Z
X-MICROSOFT-CDO-ALLDAYEVENT:FALSE
SUMMARY:Home Decor & More Auction
DESCRIPTION:This specialty sale is all about affordable and sustainable\, timeless designs that make a house a home. From furniture to lighting\, vintage to modern\, this sale has something for everyone!\n\n \n\nThis auction includes in-person bidding and a gallery audience. For your convenience\, we also offer phone\, and absentee\, and online bidding.\n\n \n\nView our full catalog here:\n\nhttps://bit.ly/4cFZtwH
X-ALT-DESC;FMTTYPE=text/html:<div>This specialty sale is all about affordable and sustainable\, timeless designs that make a house a home. From furniture to lighting\, vintage to modern\, this sale has something for everyone!<br />\n&nbsp\;</div>\n\n<div>This auction includes in-person bidding and a gallery audience. For your convenience\, we also offer phone\, and absentee\, and online bidding.<br />\n&nbsp\;</div>\n\n<div>View our full catalog here:<br />\nhttps://bit.ly/4cFZtwH</div>\n
LOCATION:51 Atlantic Hwy\, Thomaston\, ME 04861
UID:e.2086.8477
SEQUENCE:3
DTSTAMP:20260421T010122Z
URL:https://business.damariscottaregion.com/events/details/home-decor-more-auction-8477
END:VEVENT

END:VCALENDAR
