BEGIN:VCALENDAR
VERSION:2.0
PRODID:-//ChamberMaster//Event Calendar 2.0//EN
METHOD:PUBLISH
X-PUBLISHED-TTL:P3D
REFRESH-INTERVAL:P3D
CALSCALE:GREGORIAN
BEGIN:VEVENT
DTSTART:20240313T210000Z
DTEND:20240313T230000Z
X-MICROSOFT-CDO-ALLDAYEVENT:FALSE
SUMMARY:Healthy Lincoln County Business After Hours
DESCRIPTION:Enjoy an evening of networking with other business leaders in our community while learning more about Healthy Lincoln County and the multiple contributions they make to our region.
X-ALT-DESC;FMTTYPE=text/html:Enjoy an evening of networking with other business leaders in our community while learning more about Healthy Lincoln County and the multiple contributions they make to our region.
LOCATION:281 Main St.\, Damariscotta
UID:e.2086.8466
SEQUENCE:3
DTSTAMP:20260421T045443Z
URL:https://business.damariscottaregion.com/events/details/healthy-lincoln-county-business-after-hours-8466
END:VEVENT

END:VCALENDAR
