BEGIN:VCALENDAR
VERSION:2.0
PRODID:-//ChamberMaster//Event Calendar 2.0//EN
METHOD:PUBLISH
X-PUBLISHED-TTL:P3D
REFRESH-INTERVAL:P3D
CALSCALE:GREGORIAN
BEGIN:VEVENT
DTSTART:20210223T150000Z
DTEND:20210223T190000Z
X-MICROSOFT-CDO-ALLDAYEVENT:FALSE
SUMMARY:Have a Heart Fill The Bus Food Drive
DESCRIPTION:ALL DONATION SUPPORT FARMS AT THE Y CHILDREN'S \n\nPROGRAMS AND LOCAL FOOD PANTRIES. \n\n\n\nItems Needed: \n\nJEFFERSON FOOD PANTRY\n\nToilet Paper\n\nBaby Wipes\n\nSalt / Pepper\n\nGarlic Powder\n\nCanned Meats ie Chicken \, Tuna etc\n\nIndividual Heat Up Meals\n\n\n\nYMCA FARMS YOUTH PROGRAMS\n\nGarlic bulbs\n\nOlive Oil\n\n\n\nLINCOLN COUNTY FOOD\n\nINITIATIVE\n\n  Individual Snacks\n\n  Cereal\n\n\n\nNEEDS OF COMMUNITY PARTNERS AND INDIVIDUALS\n\nDiapers of all Sizes \n\nBaby Wipes\n\nToilet Paper\n\nFeminine Products \n\nChildren's Snack Items\n\nCereal\n\nMacaroni and Cheese \n\nIndividual Heat Up Meals
X-ALT-DESC;FMTTYPE=text/html:ALL DONATION SUPPORT FARMS AT THE Y CHILDREN&rsquo\;S&nbsp\;<br />\nPROGRAMS AND LOCAL FOOD PANTRIES.&nbsp\;<br />\n<br />\nItems Needed:&nbsp\;<br />\nJEFFERSON FOOD PANTRY<br />\nToilet Paper<br />\nBaby Wipes<br />\nSalt / Pepper<br />\nGarlic Powder<br />\nCanned Meats ie Chicken \, Tuna etc<br />\nIndividual Heat Up Meals<br />\n<br />\nYMCA FARMS YOUTH PROGRAMS<br />\nGarlic bulbs<br />\nOlive Oil<br />\n<br />\nLINCOLN COUNTY FOOD<br />\nINITIATIVE<br />\n&bull\; Individual Snacks<br />\n&bull\; Cereal<br />\n<br />\nNEEDS OF COMMUNITY PARTNERS AND INDIVIDUALS<br />\nDiapers of all Sizes&nbsp\;<br />\nBaby Wipes<br />\nToilet Paper<br />\nFeminine Products&nbsp\;<br />\nChildren&rsquo\;s Snack Items<br />\nCereal<br />\nMacaroni and Cheese&nbsp\;<br />\nIndividual Heat Up Meals<br />\n<br />\n<br />\n&nbsp\;
LOCATION:Main Street Grocery
UID:e.2086.6901
SEQUENCE:3
DTSTAMP:20260425T224619Z
URL:https://business.damariscottaregion.com/events/details/have-a-hear-fill-the-bus-food-drive-6901
END:VEVENT

END:VCALENDAR
