BEGIN:VCALENDAR
VERSION:2.0
PRODID:-//ChamberMaster//Event Calendar 2.0//EN
METHOD:PUBLISH
X-PUBLISHED-TTL:P3D
REFRESH-INTERVAL:P3D
CALSCALE:GREGORIAN
BEGIN:VEVENT
DTSTART:20240425T143000Z
DTEND:20240425T180000Z
X-MICROSOFT-CDO-ALLDAYEVENT:FALSE
SUMMARY:Free Domestic Abuse Roundtable Discussion in Bath
DESCRIPTION:New Hope Midcoast will host a free Domestic Abuse Roundtable Discussion from 10 a.m. - 2 p.m. on Thursday\, April 25th at the Patten Free Library. Everyone is welcome.\n\n\n\nRoundtable Discussions are meant to bring awareness about domestic abuse while providing an opportunity to learn\, share\, network and make plans about this important issue in local communities. New Hope Midcoast staff\, trained specifically in advocacy regarding domestic abuse and supported by the Maine Coalition to End Domestic Violence (MCEDV)\, will facilitate. Morning snack and full lunch are included at no charge. Attendees will be sent two brief articles to read in advance.\n\n\n\nRegistration is required by April 24th. Click here to register or call (207) 691.5969. Certificates of Attendance will be issued for those applying for professional CEUs.\n\n\n\nOn behalf of New Hope Midcoast\, we thank you for your interest and commitment to discussing this challenging and pervasive issue in our local area.\n\n\n\nQuestions: developmentdirector@newhopemidcoast.org\; (207) 691.5969
X-ALT-DESC;FMTTYPE=text/html:<p><span style="font-family:arial\,helvetica\,sans-serif"><span style="font-size:14px">New Hope Midcoast will host a free Domestic Abuse Roundtable Discussion from 10 a.m. - 2 p.m. on Thursday\, April 25th at the Patten Free Library. Everyone is welcome.<br />\n<br />\nRoundtable Discussions are meant to bring awareness about domestic abuse while providing an opportunity to learn\, share\, network and make plans about this important issue in local communities. New Hope Midcoast staff\, trained specifically in advocacy regarding domestic abuse and supported by the Maine Coalition to End Domestic Violence (MCEDV)\, will facilitate. Morning snack and full lunch are included at no charge. Attendees will be sent two brief articles to read in advance.<br />\n<br />\nRegistration is required by April 24th<strong>.</strong> <a href="https://newhopemidcoast.org/round-table-discussion-reg/" target="_blank">Click here to register</a> or call (207) 691.5969. Certificates of Attendance will be issued for those applying for professional CEUs.<br />\n<br />\nOn behalf of New Hope Midcoast\, we thank you for your interest and commitment to discussing this challenging and pervasive issue in our local area.<br />\n<br />\nQuestions: <a href="mailto:developmentdirector@newhopemidcoast.org" target="_blank">developmentdirector@newhopemidcoast.org</a>\; (207) 691.5969</span></span></p>\n
LOCATION:Patten Free Library 33 Summer Street\, Bath\, ME in the 2nd floor Community Room
UID:e.2086.8471
SEQUENCE:3
DTSTAMP:20260421T024553Z
URL:https://business.damariscottaregion.com/events/details/free-domestic-abuse-roundtable-discussion-in-bath-8471
END:VEVENT

END:VCALENDAR
