BEGIN:VCALENDAR
VERSION:2.0
PRODID:-//ChamberMaster//Event Calendar 2.0//EN
METHOD:PUBLISH
X-PUBLISHED-TTL:P3D
REFRESH-INTERVAL:P3D
CALSCALE:GREGORIAN
BEGIN:VEVENT
DTSTART:20240530T230000Z
DTEND:20240531T003000Z
X-MICROSOFT-CDO-ALLDAYEVENT:FALSE
SUMMARY:Concert with Bobby Jo Valentine
DESCRIPTION:Bobby Jo Valentine is an explorative\, hopeful\, spiritual\, queer artist who strives to makes music and poetry that is good medicine for everyone. Bobby Jo has won multiple awards for his songwriting\, given a Tedx Talk\, and is a believer on the soft and steady power of tiny everyday acts of love to heal our world.\n\nHis new book "Your True Name" is a collection of 112 stories\, poems\, and lyrics around coming home to yourself\, and his new album "The Thing About A Heart" explores human behavior and belonging in our confusing modern world. When he's not touring the country extensively\, he lives in Portland\, Oregon with his husband Tim and his puppy Tater Tot.
X-ALT-DESC;FMTTYPE=text/html:<p><span style="color:black\; font-family:roboto\; font-size:11.5pt">Bobby Jo Valentine is an explorative\, hopeful\, spiritual\, queer artist who strives to makes music and poetry that is good medicine for everyone. Bobby Jo has won multiple awards for his songwriting\, given a Tedx Talk\, and is a believer on the soft and steady power of tiny everyday acts of love to heal our world.</span></p>\n\n<p><span style="color:black\; font-family:roboto\; font-size:11.5pt">His new book &quot\;Your True Name&quot\; is a collection of 112 stories\, poems\, and lyrics around coming home to yourself\, and his new album &quot\;The Thing About A Heart&quot\; explores human behavior and belonging in our confusing modern world. When he&#39\;s not touring the country extensively\, he lives in Portland\, Oregon with his husband Tim and his puppy Tater Tot.</span></p>\n
LOCATION:Second Congregational church of Newcastle 51 Main Street\, Newcastle
UID:e.2086.8485
SEQUENCE:3
DTSTAMP:20260420T230246Z
URL:https://business.damariscottaregion.com/events/details/concert-with-bobby-jo-valentine-8485
END:VEVENT

END:VCALENDAR
