BEGIN:VCALENDAR
VERSION:2.0
PRODID:-//ChamberMaster//Event Calendar 2.0//EN
METHOD:PUBLISH
X-PUBLISHED-TTL:P3D
REFRESH-INTERVAL:P3D
CALSCALE:GREGORIAN
BEGIN:VEVENT
DTSTART:20240214T220000Z
DTEND:20240215T000000Z
X-MICROSOFT-CDO-ALLDAYEVENT:FALSE
SUMMARY:Coastal Kids Preschool Business After Hours
DESCRIPTION:Enjoy time networking with other businesses in our community! A great opportunity to meet new people and have great food and conversation!\n\nLearn more about this outstanding preschool.
X-ALT-DESC;FMTTYPE=text/html:Enjoy time networking with other businesses in our community! A great opportunity to meet new people and have great food and conversation!<br />\nLearn more about this outstanding preschool.
LOCATION:12 Jackies Trail\, Damariscotta
UID:e.2086.8465
SEQUENCE:3
DTSTAMP:20260421T045558Z
URL:https://business.damariscottaregion.com/events/details/coastal-kids-preschool-business-after-hours-8465
END:VEVENT

END:VCALENDAR
