BEGIN:VCALENDAR
VERSION:2.0
PRODID:-//ChamberMaster//Event Calendar 2.0//EN
METHOD:PUBLISH
X-PUBLISHED-TTL:P3D
REFRESH-INTERVAL:P3D
CALSCALE:GREGORIAN
BEGIN:VEVENT
DTSTART:20230315T230000Z
DTEND:20230315T233000Z
X-MICROSOFT-CDO-ALLDAYEVENT:FALSE
SUMMARY:Chamber Chat with Wanderwood Farm
DESCRIPTION:Wanderwood is a sustainable lodging and events business built on the backbone of a hardworking farm located in Midcoast Maine.\n\nTheir vision? A small scale farm to provide produce to on-site events. Beautiful and relaxing accommodations to connect guests with nature. Celebrations that are earth-friendly and filled with joy. Matt & Kelsey are excited and thankful to share their farmstead in Nobleboro with you!
X-ALT-DESC;FMTTYPE=text/html:<div class="x11i5rnm xat24cr x1mh8g0r x1vvkbs xdj266r" style="margin: 0px\; overflow-wrap: break-word\; font-family: &quot\;Segoe UI Historic&quot\;\, &quot\;Segoe UI&quot\;\, Helvetica\, Arial\, sans-serif\; color: rgb(5\, 5\, 5)\; font-size: 15px\; background-color: rgb(255\, 255\, 255)\;">Wanderwood is a sustainable lodging and events business built on the backbone of a hardworking farm located in Midcoast Maine.</div>\n\n<div class="x11i5rnm xat24cr x1mh8g0r x1vvkbs xtlvy1s" style="margin: 0.5em 0px 0px\; overflow-wrap: break-word\; font-family: &quot\;Segoe UI Historic&quot\;\, &quot\;Segoe UI&quot\;\, Helvetica\, Arial\, sans-serif\; color: rgb(5\, 5\, 5)\; font-size: 15px\; background-color: rgb(255\, 255\, 255)\;">Their vision? A small scale farm to provide produce to on-site events. Beautiful and relaxing accommodations to connect guests with nature. Celebrations that are earth-friendly and filled with joy. Matt &amp\; Kelsey are excited and thankful to share their farmstead in Nobleboro with you!</div>\n
LOCATION:www.LCTV.org
UID:e.2086.8381
SEQUENCE:3
DTSTAMP:20260421T234552Z
URL:https://business.damariscottaregion.com/events/details/chamber-chat-with-wanderwood-farm-8381
END:VEVENT

END:VCALENDAR
