BEGIN:VCALENDAR
VERSION:2.0
PRODID:-//ChamberMaster//Event Calendar 2.0//EN
METHOD:PUBLISH
X-PUBLISHED-TTL:P3D
REFRESH-INTERVAL:P3D
CALSCALE:GREGORIAN
BEGIN:VEVENT
DTSTART:20210623T233000Z
DTEND:20210624T000000Z
X-MICROSOFT-CDO-ALLDAYEVENT:FALSE
SUMMARY:Chamber Chat with Red Cloak Tours
DESCRIPTION:It's 2021 and Red Cloak Tours is open for Maine Haunted History and Ghost Tours\, Historic Walking TeleTours\, Seafood Discovery Tours\, Tidbit Tasting Parties\, Virtual Presentations and Custom Tours. The Red Cloak Experience\, with professional storytellers\, is the perfect addition to your Maine getaway.
X-ALT-DESC;FMTTYPE=text/html:<span style="color: rgb(51\, 51\, 51)\; font-family: Helvetica\; font-size: 18px\; background-color: rgb(255\, 255\, 255)\;">It&rsquo\;s 2021 and Red Cloak Tours is open for Maine Haunted History and Ghost Tours\, Historic Walking TeleTours\, Seafood Discovery Tours\, Tidbit Tasting Parties\, Virtual Presentations and Custom Tours. The Red Cloak Experience\, with professional storytellers\, is the perfect addition to your Maine getaway.</span>
LOCATION:LCTV.org
UID:e.2086.7194
SEQUENCE:3
DTSTAMP:20260425T152217Z
URL:https://business.damariscottaregion.com/events/details/chamber-chat-with-red-cloak-tours-7194
END:VEVENT

END:VCALENDAR
