BEGIN:VCALENDAR
VERSION:2.0
PRODID:-//ChamberMaster//Event Calendar 2.0//EN
METHOD:PUBLISH
X-PUBLISHED-TTL:P3D
REFRESH-INTERVAL:P3D
CALSCALE:GREGORIAN
BEGIN:VEVENT
DTSTART:20230607T230000Z
DTEND:20230607T233000Z
X-MICROSOFT-CDO-ALLDAYEVENT:FALSE
SUMMARY:Chamber Chat with Pemaquid Art Gallery
DESCRIPTION:Tune in and meet two artists from this very special art gallery located in New Harbor\, Maine. This year they are celebrating their 95th season. Tune in and find out what makes this gallery of 32 artists so special.
X-ALT-DESC;FMTTYPE=text/html:<span style="color: rgb(5\, 5\, 5)\; font-family: &quot\;Segoe UI Historic&quot\;\, &quot\;Segoe UI&quot\;\, Helvetica\, Arial\, sans-serif\; font-size: 15px\; background-color: rgb(255\, 255\, 255)\;">Tune in and meet two artists from this very special art gallery located in New Harbor\, Maine. This year they are celebrating their 95th season. Tune in and find out what makes this gallery of 32 artists so special.</span>
LOCATION:www.LCTV.org
UID:e.2086.8407
SEQUENCE:3
DTSTAMP:20260421T194916Z
URL:https://business.damariscottaregion.com/events/details/chamber-chat-with-pemaquid-art-gallery-8407
END:VEVENT

END:VCALENDAR
