BEGIN:VCALENDAR
VERSION:2.0
PRODID:-//ChamberMaster//Event Calendar 2.0//EN
METHOD:PUBLISH
X-PUBLISHED-TTL:P3D
REFRESH-INTERVAL:P3D
CALSCALE:GREGORIAN
BEGIN:VEVENT
DTSTART:20230202T000000Z
DTEND:20230202T003000Z
X-MICROSOFT-CDO-ALLDAYEVENT:FALSE
SUMMARY:Chamber Chat with First National Bank
DESCRIPTION:Tune in and learn about the red flags for fraud\, which is happening with greater frequency and to so many people. Know what the signs are and how to handle them. Meet two experts from First National Bank\, Tammy Plummer\, EVP\, Chief Compliance Officer and Emily Cantillo\, AVP\, Compliance Manager
X-ALT-DESC;FMTTYPE=text/html:<span style="color: rgb(5\, 5\, 5)\; font-family: &quot\;Segoe UI Historic&quot\;\, &quot\;Segoe UI&quot\;\, Helvetica\, Arial\, sans-serif\; font-size: 15px\; background-color: rgb(255\, 255\, 255)\;">Tune in and learn about the red flags for fraud\, which is happening with greater frequency and to so many people. Know what the signs are and how to handle them. Meet two experts from First National Bank\, Tammy Plummer\, EVP\, Chief Compliance Officer and Emily Cantillo\, AVP\, Compliance Manager</span>
LOCATION:WWW.LCTV.org
UID:e.2086.8127
SEQUENCE:3
DTSTAMP:20260422T033418Z
URL:https://business.damariscottaregion.com/events/details/chamber-chat-with-first-national-bank-8127
END:VEVENT

END:VCALENDAR
