BEGIN:VCALENDAR
VERSION:2.0
PRODID:-//ChamberMaster//Event Calendar 2.0//EN
METHOD:PUBLISH
X-PUBLISHED-TTL:P3D
REFRESH-INTERVAL:P3D
CALSCALE:GREGORIAN
BEGIN:VEVENT
DTSTART:20210304T003000Z
DTEND:20210304T010000Z
X-MICROSOFT-CDO-ALLDAYEVENT:FALSE
SUMMARY:Chamber Chat with Damariscotta Montessori School
DESCRIPTION:Learn the philosophy behind Montessori\, its early beginnings\, and what makes Damariscotta Montessori such a special school for learning.
X-ALT-DESC;FMTTYPE=text/html:Learn the philosophy behind Montessori\, its early beginnings\, and what makes Damariscotta Montessori such a special school for learning.&nbsp\;&nbsp\;
LOCATION:www.LCTV.org
UID:e.2086.6900
SEQUENCE:3
DTSTAMP:20260425T205558Z
URL:https://business.damariscottaregion.com/events/details/chamber-chat-with-damariscotta-montessori-school-6900
END:VEVENT

END:VCALENDAR
