BEGIN:VCALENDAR
VERSION:2.0
PRODID:-//ChamberMaster//Event Calendar 2.0//EN
METHOD:PUBLISH
X-PUBLISHED-TTL:P3D
REFRESH-INTERVAL:P3D
CALSCALE:GREGORIAN
BEGIN:VEVENT
DTSTART:20210804T233000Z
DTEND:20210805T000000Z
X-MICROSOFT-CDO-ALLDAYEVENT:FALSE
SUMMARY:Chamber Chat with Aves Appraisal\, Valuation & Estate Services
DESCRIPTION:Meet Edward Kitson\, owner of Aves Appraisal\, Evaluation & Estate Services
X-ALT-DESC;FMTTYPE=text/html:Meet Edward Kitson\, owner of Aves Appraisal\, Evaluation &amp\; Estate Services
LOCATION:www.LCTV.org
UID:e.2086.7417
SEQUENCE:3
DTSTAMP:20260425T115106Z
URL:https://business.damariscottaregion.com/events/details/chamber-chat-with-aves-appraisal-valuation-estate-services-7417
END:VEVENT

END:VCALENDAR
