BEGIN:VCALENDAR
VERSION:2.0
PRODID:-//ChamberMaster//Event Calendar 2.0//EN
METHOD:PUBLISH
X-PUBLISHED-TTL:P3D
REFRESH-INTERVAL:P3D
CALSCALE:GREGORIAN
BEGIN:VEVENT
DTSTART:20240110T220000Z
DTEND:20240111T000000Z
X-MICROSOFT-CDO-ALLDAYEVENT:FALSE
SUMMARY:Business After Hours at Keller Williams Realty
DESCRIPTION:Enjoy time networking with other members of the business community.  Free for members of the chamber and anyone interested in joining the chamber.
X-ALT-DESC;FMTTYPE=text/html:Enjoy time networking with other members of the business community.&nbsp\; Free for members of the chamber and anyone interested in joining the chamber.&nbsp\;
LOCATION:Keller Williams Realty 65 Main Street Damariscotta
UID:e.2086.8461
SEQUENCE:3
DTSTAMP:20260421T062648Z
URL:https://business.damariscottaregion.com/events/details/business-after-hours-at-keller-williams-realty-8461
END:VEVENT

END:VCALENDAR
