BEGIN:VCALENDAR
VERSION:2.0
PRODID:-//ChamberMaster//Event Calendar 2.0//EN
METHOD:PUBLISH
X-PUBLISHED-TTL:P3D
REFRESH-INTERVAL:P3D
CALSCALE:GREGORIAN
BEGIN:VEVENT
DTSTART:20230712T210000Z
DTEND:20230712T230000Z
X-MICROSOFT-CDO-ALLDAYEVENT:FALSE
SUMMARY:Business After Hours at Camden National Bank
DESCRIPTION:Come enjoy networking with other members of the business community.
X-ALT-DESC;FMTTYPE=text/html:Come enjoy networking with other members of the business community.&nbsp\;
LOCATION:Camden National Bank 435 Main Street Damariscotta\, ME
UID:e.2086.8392
SEQUENCE:3
DTSTAMP:20260421T183013Z
URL:https://business.damariscottaregion.com/events/details/business-after-hours-at-camden-national-bank-8392
END:VEVENT

END:VCALENDAR
