BEGIN:VCALENDAR
VERSION:2.0
PRODID:-//ChamberMaster//Event Calendar 2.0//EN
METHOD:PUBLISH
X-PUBLISHED-TTL:P3D
REFRESH-INTERVAL:P3D
CALSCALE:GREGORIAN
BEGIN:VEVENT
DTSTART;VALUE=DATE:20230824
DTEND;VALUE=DATE:20230825
TRANSP:TRANSPARENT
X-MICROSOFT-CDO-ALLDAYEVENT:TRUE
SUMMARY:Automobilia+Collectibles Auction PLUS: A Selection of “No-Reserve” Vehicles will be Crossing the Block!
DESCRIPTION:A must-see sale for the true automotive enthusiast\, featuring an unparalleled marketplace of rare collectibles and memorabilia from our automotive past!\n\nFRIDAY SPECIAL: EXPANDED AUTOMOTIVE INVENTORY!\n\nBecause of our bursting inventory\, we will be offering a selection of NO-RESERVE vehicles.\n\nDirectly following the automobilia auction a selection of no-reserve vehicles will be crossing the auction block. Don't miss this special opportunity to bid on a daily driver or the car of your dreams!  \n\n\n\n\n\n\n\n\nDoors Open: 9:00 AM\n\nAuction Starts: 11:30 AM\n\n\n\n\n\n\n\n\n\nSpectator Ticket Prices\n\nSpectators: $20\n\nMembers: FREE\n\n \n\nBidder Package Prices\n\nNon-Members: $125\n\nMembers: $100
X-ALT-DESC;FMTTYPE=text/html:<div>\n<div>\n<h4>A must-see sale for the true automotive enthusiast\, featuring an unparalleled marketplace of rare collectibles and memorabilia from our automotive past!</h4>\n\n<h4><strong><span style="color:rgb(224\, 7\, 7)">FRIDAY SPECIAL: EXPANDED AUTOMOTIVE INVENTORY!</span></strong><br />\n<strong>Because of our bursting inventory\, we will be offering a selection of NO-RESERVE vehicles.</strong><br />\nDirectly following the automobilia auction a selection of no-reserve vehicles will be crossing the auction block. Don&rsquo\;t miss this special opportunity to bid on a daily driver or the car of your dreams!&nbsp\;&nbsp\;</h4>\n</div>\n</div>\n\n<div style="margin-left:auto\; margin-right:auto">\n<div>\n<div>\n<div>\n<div>\n<p>Doors Open: 9:00 AM</p>\n\n<p>Auction Starts: 11:30 AM</p>\n</div>\n</div>\n</div>\n</div>\n\n<div>\n<div>\n<div>\n<div>\n<p><strong>Spectator Ticket Prices</strong></p>\n\n<p>Spectators: $20</p>\n\n<p>Members: FREE</p>\n\n<p>&nbsp\;</p>\n\n<p><strong>Bidder Package Prices</strong></p>\n\n<p>Non-Members: $125</p>\n\n<p>Members: $100</p>\n</div>\n</div>\n</div>\n</div>\n</div>\n
LOCATION:Owls Head Transportation Museum 117 Museum St Owls Head\, ME 04854
UID:e.2086.8428
SEQUENCE:3
DTSTAMP:20260421T165719Z
URL:https://business.damariscottaregion.com/events/details/automobilia-collectibles-auction-plus-a-selection-of-no-reserve-vehicles-will-be-crossing-the-block-8428
END:VEVENT

END:VCALENDAR
