BEGIN:VCALENDAR
VERSION:2.0
PRODID:-//ChamberMaster//Event Calendar 2.0//EN
METHOD:PUBLISH
X-PUBLISHED-TTL:P3D
REFRESH-INTERVAL:P3D
CALSCALE:GREGORIAN
BEGIN:VEVENT
DTSTART:20260321T200000Z
DTEND:20260321T220000Z
X-MICROSOFT-CDO-ALLDAYEVENT:FALSE
SUMMARY:ANIMAL SHELTER DRIVE PARTY
DESCRIPTION:Get Involved\, Help The Animals\, & Join The Fun!  Join us March 21st from 4-6 pm for this FREE community event at our 127 Elm Street Shop?. Spring Equinox\, Animals In Need\, Community\, & Cocktails! \n\nWe run a drive each Spring to help our local Animal Shelter\, offering a discount to customers in exchange for their donations. This year\, to celebrate our 10th Drive\, we're turning it into an evening Party & moving it from May to March! Simply bring in a donation of much-needed items from the list below to help support Midcoast Humane\, & get 20% off your next purchase with us! \n\n \n\nOn the evening of the 21st\, pop in between 4 pm & 6 pm. We'll gleefully accept your donations & have lovely Herbal Cocktails & Zero-Proofs for you to sip. Here's your chance to help out this crucial community resource & the animals they serve\, save a bundle on our handcrafted\, natural beauty products\, socialize\, & enjoy an Herbal Beverage while celebrating the Spring Equinox-- WHAT could be more fun?!
X-ALT-DESC;FMTTYPE=text/html:<p><strong>Get Involved\, Help The Animals\, &amp\; Join The Fun!&nbsp\;&nbsp\;</strong>Join us March 21st from 4-6 pm for this FREE community event at our <a href="http://click.promote.weebly.com/ls/click?upn=u001.mJJIZfX-2BxDORG7IE6Hjgw10T6VFA4h2jzeWZwo63801Wzms6O-2BlG4-2FzusgmTFRCCNlaoVp9dc7q39wqG5z2H0QPi6lJLyK1mp2TW0-2FHBmeOwBHHCAoof-2F0Dohjzl1p5L9tYRMKS0PxJVIcX5ujFHxOdTk5DlfBfgkJ2SOySMb1GNPkpUXIael5nRuao8p48Tke72xAVmKk-2B7yhweH9pVCFZmVEHKOFoySGnLT4Et2aaARTSqSvPO0-2BB4loTSkb-2FcddgtSUhuKDbfp0X3UPZt5bJnOR4-2BdF3tqfGJD-2BrLhO6-2FovUcm1mtyHGcLam6Gt0ipg5tYld2fAqRx5jrRKwC-2Fl4PgpEgt94T3ImEiiF-2FHbM-3DI-5L_efsCoffwkRlWzNpNOZ84WXa035chX-2FTn9EdbQ6aNqFkrYq7noj-2Fav6C-2B5qE0ImzimbrSZyXELG1kvZuLTFceGuwNVC1cAHOqYpMQWWK3d0r6Elj1tUtRcf5U5QtSteQ0A-2F0WXK5rtj7jkjbi9ZwoGgvmKAx25PumXDt0934WnMex6RcdXfy2wFcuwU3euGhpasd8fDgtvDov0BJPCEC8t68GfsxvWmi-2BFQ-2FAoImGvecJejE276nOy4QX2voHwE9yvS-2BVZY0XxqGHNDt-2FO0LQCHtoqQNbJV-2FnVTccGrVRwhTeLbnFrsQv4qH0CdfLhKNThtGhxZo0MQyvUmUPATGxphhi4Pmn46tJG4qsAls6lq64V90-2BzM-2B4O1SMNSESK7Yn2d7TFORfNom5oEOgoa7sdQ-2B3g81dg8e3avJS8ACelZb1ZWrpBP5G4cM8-2BQ-2FnkmFr02h24cC8R4mlmTnmrYhfNKnI3P7NZuuaDGd-2BQ0nnnww-3D" rel="noopener noreferrer" style="color: rgba(0\, 0\, 0\, 0.9)\; transition: color 0.24s cubic-bezier(0.26\, 0.1\, 0.48\, 1)\; font-weight: 700\;" target="null">127 Elm Street Shop</a>?.<strong>&nbsp\;Spring Equinox\, Animals In Need\, Community\, &amp\; Cocktails!&nbsp\;</strong></p>\n\n<p>We run a&nbsp\;drive each Spring to help our local Animal Shelter\, offering a discount to customers in exchange for their donations. This year\, to celebrate our <strong>10th Drive</strong>\, we&rsquo\;re turning it into an evening Party &amp\; moving it from May to March! Simply bring in a donation of <strong>much-needed items from the list below</strong> to help support <a href="https://midcoasthumane.org/donate/donate-supplies/#:~:text=Animal%20Enrichment%20Supplies&amp\;text=Animal%20Enrichment%20Supplies&amp\;text=Animal%20Enrichment%20Supplies&amp\;text=Animal%20Enrichment%20Supplies&amp\;text=Animal%20Enrichment%20Supplies&amp\;text=Animal%20Enrichment%20Supplies&amp\;text=Animal%20Enrichment%20Supplies" rel="noopener noreferrer" style="color: rgba(0\, 0\, 0\, 0.9)\; transition: color 0.24s cubic-bezier(0.26\, 0.1\, 0.48\, 1)\; font-weight: 700\;" target="null">Midcoast Humane</a>\, &amp\; get<strong> 20% off your next purchase</strong> with us!&nbsp\;</p>\n\n<p>&nbsp\;</p>\n\n<p>On the evening of the 21st\, pop in between 4 pm &amp\; 6 pm. We&rsquo\;ll gleefully accept your donations &amp\; have <strong>lovely Herbal Cocktails &amp\; Zero-Proofs </strong>for you to sip. Here&rsquo\;s your chance to help out this crucial community resource &amp\; the animals they serve\, save a bundle on our handcrafted\, natural beauty products\, socialize\, &amp\; enjoy an Herbal Beverage while celebrating the<strong> Spring Equinox</strong>-- WHAT could be more fun?!</p>\n
LOCATION:Du Jardin Beauty\, 127 Elm Street\, Damariscotta\, ME 04543
UID:e.2086.10268
SEQUENCE:3
DTSTAMP:20260423T224916Z
URL:https://business.damariscottaregion.com/events/details/animal-shelter-drive-party-10268
END:VEVENT

END:VCALENDAR
