BEGIN:VCALENDAR
VERSION:2.0
PRODID:-//ChamberMaster//Event Calendar 2.0//EN
METHOD:PUBLISH
X-PUBLISHED-TTL:P3D
REFRESH-INTERVAL:P3D
CALSCALE:GREGORIAN
BEGIN:VEVENT
DTSTART;VALUE=DATE:20230701
DTEND;VALUE=DATE:20230703
TRANSP:TRANSPARENT
X-MICROSOFT-CDO-ALLDAYEVENT:TRUE
SUMMARY:American Dream Machines
DESCRIPTION:Celebrate the 4th of July in STYLE at the American Dream Machines Event\n\n\n\nConvertibles of any age or make get into this event for FREE!\n\n\n\nPut the top down and feel the wind in your hair as we kick-start Summer with American-made convertibles\, powerful hot rods\, and classic muscle machines from the '50s and '60s at the reimagined American Dream Machines two-day event! With aircraft and auto demonstrations\, a Kids STEM Activity Center\, open-air caf  and more\, this event is fun for the whole family.\n\n\n\nSaturday\, July 1 and Sunday\, July 2\n\n\n\n10 a.m. to 3 p.m\n\n\n\nExhibitors Welcome:\n\n\n\nGet free admission for you and one passenger when you exhibit at this event with a convertible of any age or make or a classic\, custom or special interest vehicle that is at least 20+ years old!
X-ALT-DESC;FMTTYPE=text/html:<span style="color:rgb(34\, 34\, 34)\; font-family:arial\,helvetica\,sans-serif\; font-size:small">Celebrate the 4th of July in STYLE at the American Dream Machines Event</span><br />\n<br />\n<span style="color:rgb(34\, 34\, 34)\; font-family:arial\,helvetica\,sans-serif\; font-size:small">Convertibles of any age or make get into this event for FREE!</span><br />\n<br />\n<span style="color:rgb(34\, 34\, 34)\; font-family:arial\,helvetica\,sans-serif\; font-size:small">Put the top down and feel the wind in your hair as we kick-start Summer with American-made convertibles\, powerful hot rods\, and classic muscle machines from the &lsquo\;50s and &lsquo\;60s at the reimagined American Dream Machines two-day event! With aircraft and auto demonstrations\, a Kids STEM Activity Center\, open-air caf&eacute\; and more\, this event is fun for the whole family.</span><br />\n<br />\n<span style="color:rgb(34\, 34\, 34)\; font-family:arial\,helvetica\,sans-serif\; font-size:small">Saturday\, July 1 and Sunday\, July 2</span><br />\n<br />\n<span style="color:rgb(34\, 34\, 34)\; font-family:arial\,helvetica\,sans-serif\; font-size:small">10 a.m. to 3 p.m</span><br />\n<br />\n<span style="color:rgb(34\, 34\, 34)\; font-family:arial\,helvetica\,sans-serif\; font-size:small">Exhibitors Welcome:</span><br />\n<br />\n<span style="color:rgb(34\, 34\, 34)\; font-family:arial\,helvetica\,sans-serif\; font-size:small">Get free admission for you and one passenger when you exhibit at this event with a convertible of any age or make or a classic\, custom or special interest vehicle that is at least 20+ years old!</span>
LOCATION:Owls Head Transportation Museum 117 Museum St Owls Head\, ME
UID:e.2086.8412
SEQUENCE:3
DTSTAMP:20260421T182503Z
URL:https://business.damariscottaregion.com/events/details/american-dream-machines-8412
END:VEVENT

END:VCALENDAR
