BEGIN:VCALENDAR
VERSION:2.0
PRODID:-//ChamberMaster//Event Calendar 2.0//EN
METHOD:PUBLISH
X-PUBLISHED-TTL:P3D
REFRESH-INTERVAL:P3D
CALSCALE:GREGORIAN
BEGIN:VEVENT
DTSTART;VALUE=DATE:20230826
DTEND;VALUE=DATE:20230827
TRANSP:TRANSPARENT
X-MICROSOFT-CDO-ALLDAYEVENT:TRUE
SUMMARY:716 Candles - Lights of Lincoln County
DESCRIPTION:No place in America is unaffected by the impact of substance use and the opioid epidemic. That includes Lincoln County\, Maine. Each year\, our close-knit rural community sees loved ones dying from overdose\, hundreds receiving treatment for substance use disorder\, and thousands experiencing the negative impact of addiction\, either themselves or through someone they love.\n\nThat's almost everyone in the county.\n\nJoin us in doing something about it!\n\n\nPresented by Healthy Lincoln County in partnership with multiple individuals\, organizations\, and businesses\, 716 Candles is a series of free events taking place in Maine's Lincoln County in late August 2023 to commemorate International Overdose Awareness Day. With art\, music\, stories\, remembrances\, resource tables\, speakers\, and more\, 716 Candles will:\n\n\n	honor the lives of those lost to and hurt by substance use\;\n	de-stigmatize addiction by underscoring the humanity of those affected by it\;\n	build general awareness on matters related to addiction and the opioid epidemic\;\n	educate on prevention\, harm reduction\, treatment\, and paths to wellness\;\n	underscore that we are all in this together\, and can all be a part of making things better.
X-ALT-DESC;FMTTYPE=text/html:<div style="margin-left:inherit\; margin-right:inherit">\n<div style="margin-left:inherit\; margin-right:inherit">\n<p style="text-align:center">No place in America is unaffected by the impact of substance use and the opioid epidemic. That includes Lincoln County\, Maine. Each year\, our close-knit rural community sees loved ones dying from overdose\, hundreds receiving treatment for substance use disorder\, and thousands experiencing the negative impact of addiction\, either themselves or through someone they love.</p>\n\n<p style="text-align:center">That&rsquo\;s almost everyone in the county.</p>\n\n<h2 style="text-align:center">Join us in doing something about it!</h2>\n</div>\n\n<p>Presented by&nbsp\;<a href="https://healthylincolncounty.org/" rel="noreferrer noopener" style="color: rgb(243\, 113\, 96)\; box-sizing: inherit\; background-color: transparent\; cursor: pointer\; max-width: unset\;" target="_blank">Healthy Lincoln County</a>&nbsp\;in partnership with multiple individuals\, organizations\, and businesses\,&nbsp\;<em>716 Candles</em>&nbsp\;is a series of free events taking place in Maine&rsquo\;s Lincoln County in late August 2023 to commemorate&nbsp\;<a href="https://www.samhsa.gov/newsroom/statements/2021/international-overdose-awareness-day" rel="noreferrer noopener" style="color: rgb(243\, 113\, 96)\; box-sizing: inherit\; background-color: transparent\; cursor: pointer\; max-width: unset\;" target="_blank">International Overdose Awareness Day</a>. With art\, music\, stories\, remembrances\, resource tables\, speakers\, and more\,&nbsp\;<em>716 Candles</em>&nbsp\;will:</p>\n\n<ul>\n	<li>honor&nbsp\;the lives of those lost to and hurt by substance use\;</li>\n	<li>de-stigmatize&nbsp\;addiction by underscoring the humanity of those affected by it\;</li>\n	<li>build&nbsp\;general awareness on matters related to addiction and the opioid epidemic\;</li>\n	<li>educate&nbsp\;on prevention\, harm reduction\, treatment\, and paths to wellness\;</li>\n	<li>underscore&nbsp\;that we are all in this together\, and can all be a part of making things better.</li>\n</ul>\n</div>\n
LOCATION:Lincoln County - Damariscotta Lights of Lincoln County https://716candlesproject.wordpress.com/lights-of-lincoln-county/ Boothbay Harbor International Overdose Awareness Day https://716candlesproject.wordpress.com/international-overdose-awareness-day/ Wiscassett Art Walk & Parade of Candles https://716candlesproject.wordpress.com/wiscasset-art-walk-parade-of-candles/ Waldoboro Why You Matter For More information visit: https://716candlesproject.wordpress.com/ Boothbay Harbor Love and Remberance https://716candlesproject.wordpress.com/ Please follow us on Facebook and spread the word! https://www.facebook.com/716candles/
UID:e.2086.8424
SEQUENCE:3
DTSTAMP:20260421T165301Z
URL:https://business.damariscottaregion.com/events/details/716-candles-lights-of-lincoln-county-8424
END:VEVENT

END:VCALENDAR
