BEGIN:VCALENDAR
VERSION:2.0
PRODID:-//ChamberMaster//Event Calendar 2.0//EN
METHOD:PUBLISH
X-PUBLISHED-TTL:P3D
REFRESH-INTERVAL:P3D
CALSCALE:GREGORIAN
BEGIN:VEVENT
DTSTART;VALUE=DATE:20240324
DTEND;VALUE=DATE:20240325
TRANSP:TRANSPARENT
X-MICROSOFT-CDO-ALLDAYEVENT:TRUE
SUMMARY:2024 MAINE STATE • ALL CLUB SOCIAL
DESCRIPTION:Calling all Car Clubs\, Organizations and Show Organizers! \n\nThe "All Club Social" is the place to be for auto enthusiasts interested in knowing more about Maine's car clubs and events! Socialize\, have some lunch and learn about what is going on in Maine's auto community! The Owls Head Transportation Museum will be hosting and sponsoring this event. If you have not been to the museum before\, be our guests and take a look around before the Social. [ Doors open a 10am ]\n\n  Socialize with other like-minded car enthusiasts\n\n  Find out more about clubs in the state\n\n  Get information about upcoming events\n\n  Share schedules and distribute materials for your auto clubs' events\n\nSign up at the door to speak | Clubs and organizations interested will be able to have 5 minutes to share about their club activities!\n\nEvent Time:\n\n11am-3pm [Doors Open 10am]\n\n\n\nClick here to register: https://docs.google.com/forms/d/e/1FAIpQLSf3FpVicImMvJRqb1KXssR42QIY1jHxHNrjB0LujvHsHummoQ/viewform
X-ALT-DESC;FMTTYPE=text/html:<p><strong><span style="color:rgb(0\, 0\, 0)">Calling all Car Clubs\, Organizations and Show Organizers!&nbsp\;</span></strong></p>\n\n<p><span style="font-family:arial\; font-size:14px">The &ldquo\;All Club Social&rdquo\; is the place to be for auto enthusiasts interested in knowing more about Maine&rsquo\;s car clubs and events! Socialize\, have some lunch and learn about what is going on in Maine&rsquo\;s auto community! The Owls Head Transportation Museum will be hosting and sponsoring this event. If you have not been to the museum before\, be our guests and take a look around before the Social. [ Doors open a 10am ]</span></p>\n\n<p><span style="font-family:arial\; font-size:14px">&bull\; Socialize with other like-minded car enthusiasts<br />\n&bull\; Find out more about clubs in the state<br />\n&bull\; Get information about upcoming events<br />\n&bull\; Share schedules and distribute materials for your auto clubs&rsquo\; events</span></p>\n\n<p><span style="font-family:arial\; font-size:14px"><strong><span style="color:rgb(192\, 0\, 0)">Sign up at the door to speak |&nbsp\;</span></strong>Clubs and organizations interested will be able to have 5 minutes to share about their club activities!</span></p>\n\n<p><span style="font-family:arial\; font-size:14px"><strong>Event Time:</strong><br />\n11am-3pm [Doors Open 10am]<br />\n<br />\nClick here to register:&nbsp\;</span>https://docs.google.com/forms/d/e/1FAIpQLSf3FpVicImMvJRqb1KXssR42QIY1jHxHNrjB0LujvHsHummoQ/viewform</p>\n
LOCATION:Owls Head Transportation Museum 117 Museum St. Owls Head\, ME 04574
UID:e.2086.8473
SEQUENCE:3
DTSTAMP:20260421T045045Z
URL:https://business.damariscottaregion.com/events/details/2024-maine-state-all-club-social-8473
END:VEVENT

END:VCALENDAR
